Package: maser Version: 1.24.0 Command: /home/biocbuild/bbs-3.20-bioc/R/bin/R CMD build --keep-empty-dirs --no-resave-data --md5 maser StartedAt: 2025-02-03 18:03:17 -0500 (Mon, 03 Feb 2025) EndedAt: 2025-02-03 18:05:34 -0500 (Mon, 03 Feb 2025) EllapsedTime: 137.1 seconds RetCode: 0 Status: OK PackageFile: maser_1.24.0.tar.gz PackageFileSize: 2.956 MiB