Package: maser Version: 1.24.0 Command: /home/biocbuild/R/R/bin/R CMD check --install=check:maser.install-out.txt --library=/home/biocbuild/R/R/site-library --no-vignettes --timings maser_1.24.0.tar.gz StartedAt: 2025-02-04 08:26:16 -0000 (Tue, 04 Feb 2025) EndedAt: 2025-02-04 08:36:13 -0000 (Tue, 04 Feb 2025) EllapsedTime: 597.8 seconds RetCode: 0 Status: OK CheckDir: maser.Rcheck Warnings: 0