Package: maskBAD Version: 1.50.0 Command: /Library/Frameworks/R.framework/Resources/bin/R CMD build --keep-empty-dirs --no-resave-data maskBAD StartedAt: 2025-02-03 20:01:51 -0500 (Mon, 03 Feb 2025) EndedAt: 2025-02-03 20:04:56 -0500 (Mon, 03 Feb 2025) EllapsedTime: 185.0 seconds RetCode: 0 Status: OK PackageFile: maskBAD_1.50.0.tar.gz PackageFileSize: 1.543 MiB