Package: maskBAD Version: 1.50.0 Command: F:\biocbuild\bbs-3.20-bioc\R\bin\R.exe CMD check --no-multiarch --install=check:maskBAD.install-out.txt --library=F:\biocbuild\bbs-3.20-bioc\R\library --no-vignettes --timings maskBAD_1.50.0.tar.gz StartedAt: 2025-02-04 03:21:00 -0500 (Tue, 04 Feb 2025) EndedAt: 2025-02-04 03:22:49 -0500 (Tue, 04 Feb 2025) EllapsedTime: 109.5 seconds RetCode: 0 Status: OK CheckDir: maskBAD.Rcheck Warnings: 0