Package: maskBAD Version: 1.50.0 Command: /home/biocbuild/R/R/bin/R CMD build --keep-empty-dirs --no-resave-data maskBAD StartedAt: 2025-02-04 00:39:47 -0000 (Tue, 04 Feb 2025) EndedAt: 2025-02-04 00:41:28 -0000 (Tue, 04 Feb 2025) EllapsedTime: 101.0 seconds RetCode: 0 Status: OK PackageFile: maskBAD_1.50.0.tar.gz PackageFileSize: 1.534 MiB