Package: maskBAD Version: 1.50.0 Command: /home/biocbuild/R/R/bin/R CMD INSTALL maskBAD StartedAt: 2025-02-03 20:31:15 -0000 (Mon, 03 Feb 2025) EndedAt: 2025-02-03 20:31:29 -0000 (Mon, 03 Feb 2025) EllapsedTime: 14.4 seconds RetCode: 0 Status: OK