Package: massiR Version: 1.42.0 Command: rm -rf massiR.buildbin-libdir && mkdir massiR.buildbin-libdir && /Users/biocbuild/BBS/utils/build-universal.sh massiR_1.42.0.tar.gz /Library/Frameworks/R.framework/Resources/bin/R massiR.buildbin-libdir StartedAt: 2025-01-31 13:06:00 -0500 (Fri, 31 Jan 2025) EndedAt: 2025-01-31 13:06:12 -0500 (Fri, 31 Jan 2025) EllapsedTime: 11.6 seconds RetCode: 0 Status: OK PackageFile: massiR_1.42.0.tgz PackageFileSize: 1.148 MiB