Package: massiR Version: 1.42.0 Command: /Library/Frameworks/R.framework/Resources/bin/R CMD build --keep-empty-dirs --no-resave-data massiR StartedAt: 2025-01-30 20:20:32 -0500 (Thu, 30 Jan 2025) EndedAt: 2025-01-30 20:21:02 -0500 (Thu, 30 Jan 2025) EllapsedTime: 29.4 seconds RetCode: 0 Status: OK PackageFile: massiR_1.42.0.tar.gz PackageFileSize: 1.115 MiB