Package: massiR Version: 1.42.0 Command: /Library/Frameworks/R.framework/Resources/bin/R CMD INSTALL massiR StartedAt: 2025-01-30 15:09:17 -0500 (Thu, 30 Jan 2025) EndedAt: 2025-01-30 15:09:40 -0500 (Thu, 30 Jan 2025) EllapsedTime: 23.1 seconds RetCode: 0 Status: OK