Package: massiR Version: 1.42.0 Command: /home/biocbuild/bbs-3.20-bioc/R/bin/R CMD check --install=check:massiR.install-out.txt --library=/home/biocbuild/bbs-3.20-bioc/R/site-library --timings massiR_1.42.0.tar.gz StartedAt: 2025-01-30 23:36:42 -0500 (Thu, 30 Jan 2025) EndedAt: 2025-01-30 23:37:10 -0500 (Thu, 30 Jan 2025) EllapsedTime: 28.0 seconds RetCode: 0 Status: OK CheckDir: massiR.Rcheck Warnings: 0