Package: massiR Version: 1.42.0 Command: rm -rf massiR.buildbin-libdir && mkdir massiR.buildbin-libdir && F:\biocbuild\bbs-3.20-bioc\R\bin\R.exe CMD INSTALL --build --library=massiR.buildbin-libdir massiR_1.42.0.tar.gz StartedAt: 2025-01-31 08:58:55 -0500 (Fri, 31 Jan 2025) EndedAt: 2025-01-31 08:59:09 -0500 (Fri, 31 Jan 2025) EllapsedTime: 14.1 seconds RetCode: 0 Status: OK PackageFile: massiR_1.42.0.zip PackageFileSize: 1.064 MiB