Package: massiR Version: 1.42.0 Command: F:\biocbuild\bbs-3.20-bioc\R\bin\R.exe CMD check --no-multiarch --install=check:massiR.install-out.txt --library=F:\biocbuild\bbs-3.20-bioc\R\library --no-vignettes --timings massiR_1.42.0.tar.gz StartedAt: 2025-01-31 03:31:47 -0500 (Fri, 31 Jan 2025) EndedAt: 2025-01-31 03:32:27 -0500 (Fri, 31 Jan 2025) EllapsedTime: 39.9 seconds RetCode: 0 Status: OK CheckDir: massiR.Rcheck Warnings: 0