Package: mastR Version: 1.6.0 Command: /Library/Frameworks/R.framework/Resources/bin/R CMD build --keep-empty-dirs --no-resave-data mastR StartedAt: 2025-02-03 20:02:35 -0500 (Mon, 03 Feb 2025) EndedAt: 2025-02-03 20:07:44 -0500 (Mon, 03 Feb 2025) EllapsedTime: 309.1 seconds RetCode: 0 Status: OK PackageFile: mastR_1.6.0.tar.gz PackageFileSize: 3.108 MiB