Package: mastR Version: 1.6.0 Command: /Library/Frameworks/R.framework/Resources/bin/R CMD INSTALL mastR StartedAt: 2025-02-17 16:37:41 -0500 (Mon, 17 Feb 2025) EndedAt: 2025-02-17 16:39:11 -0500 (Mon, 17 Feb 2025) EllapsedTime: 89.9 seconds RetCode: 0 Status: OK