Package: mastR
Version: 1.6.0
Command: chmod a+r mastR -R && F:\biocbuild\bbs-3.20-bioc\R\bin\R.exe CMD build --keep-empty-dirs --no-resave-data mastR
StartedAt: 2025-02-17 19:55:14 -0500 (Mon, 17 Feb 2025)
EndedAt: 2025-02-17 19:59:14 -0500 (Mon, 17 Feb 2025)
EllapsedTime: 239.2 seconds
RetCode: 0
Status: OK
PackageFile: mastR_1.6.0.tar.gz
PackageFileSize: 1.821 <A href="http://en.wikipedia.org/wiki/MiB" target="_blank">MiB</A>