Package: mastR Version: 1.6.0 Command: /home/biocbuild/R/R/bin/R CMD check --install=check:mastR.install-out.txt --library=/home/biocbuild/R/R/site-library --no-vignettes --timings mastR_1.6.0.tar.gz StartedAt: 2025-02-18 08:25:17 -0000 (Tue, 18 Feb 2025) EndedAt: 2025-02-18 09:05:17 -0000 (Tue, 18 Feb 2025) EllapsedTime: 2400.5 seconds RetCode: None Status: TIMEOUT CheckDir: mastR.Rcheck Warnings: NA