Package: matchBox Version: 1.48.0 Command: /Library/Frameworks/R.framework/Resources/bin/R CMD build --keep-empty-dirs --no-resave-data matchBox StartedAt: 2025-02-04 02:36:14 -0500 (Tue, 04 Feb 2025) EndedAt: 2025-02-04 02:36:25 -0500 (Tue, 04 Feb 2025) EllapsedTime: 11.2 seconds RetCode: 0 Status: OK PackageFile: matchBox_1.48.0.tar.gz PackageFileSize: 604.8 KiB