Package: matchBox Version: 1.48.0 Command: rm -rf matchBox.buildbin-libdir && mkdir matchBox.buildbin-libdir && F:\biocbuild\bbs-3.20-bioc\R\bin\R.exe CMD INSTALL --build --library=matchBox.buildbin-libdir matchBox_1.48.0.tar.gz StartedAt: 2025-02-04 08:51:10 -0500 (Tue, 04 Feb 2025) EndedAt: 2025-02-04 08:51:22 -0500 (Tue, 04 Feb 2025) EllapsedTime: 11.7 seconds RetCode: 0 Status: OK PackageFile: matchBox_1.48.0.zip PackageFileSize: 637.8 KiB