Package: matchBox Version: 1.48.0 Command: chmod a+r matchBox -R && F:\biocbuild\bbs-3.20-bioc\R\bin\R.exe CMD build --keep-empty-dirs --no-resave-data matchBox StartedAt: 2025-02-03 20:08:47 -0500 (Mon, 03 Feb 2025) EndedAt: 2025-02-03 20:09:07 -0500 (Mon, 03 Feb 2025) EllapsedTime: 19.7 seconds RetCode: 0 Status: OK PackageFile: matchBox_1.48.0.tar.gz PackageFileSize: 605.7 KiB