Package: matchBox Version: 1.48.0 Command: F:\biocbuild\bbs-3.20-bioc\R\bin\R.exe CMD check --no-multiarch --install=check:matchBox.install-out.txt --library=F:\biocbuild\bbs-3.20-bioc\R\library --no-vignettes --timings matchBox_1.48.0.tar.gz StartedAt: 2025-02-04 03:22:36 -0500 (Tue, 04 Feb 2025) EndedAt: 2025-02-04 03:23:05 -0500 (Tue, 04 Feb 2025) EllapsedTime: 28.6 seconds RetCode: 0 Status: OK CheckDir: matchBox.Rcheck Warnings: 0