Package: matchBox Version: 1.48.0 Command: F:\biocbuild\bbs-3.20-bioc\R\bin\R.exe CMD INSTALL matchBox StartedAt: 2025-02-03 15:30:59 -0500 (Mon, 03 Feb 2025) EndedAt: 2025-02-03 15:31:12 -0500 (Mon, 03 Feb 2025) EllapsedTime: 13.6 seconds RetCode: 0 Status: OK