Package: matchBox Version: 1.48.0 Command: /home/biocbuild/R/R/bin/R CMD INSTALL matchBox StartedAt: 2025-02-03 20:21:06 -0000 (Mon, 03 Feb 2025) EndedAt: 2025-02-03 20:21:22 -0000 (Mon, 03 Feb 2025) EllapsedTime: 15.2 seconds RetCode: 0 Status: OK