Package: mbQTL Version: 1.6.0 Command: /Library/Frameworks/R.framework/Resources/bin/R CMD check --install=check:mbQTL.install-out.txt --library=/Library/Frameworks/R.framework/Resources/library --no-vignettes --timings mbQTL_1.6.0.tar.gz StartedAt: 2025-02-05 00:48:17 -0500 (Wed, 05 Feb 2025) EndedAt: 2025-02-05 00:49:54 -0500 (Wed, 05 Feb 2025) EllapsedTime: 97.1 seconds RetCode: 0 Status: OK CheckDir: mbQTL.Rcheck Warnings: 0