Package: mbQTL
Version: 1.6.0
Command: /Library/Frameworks/R.framework/Resources/bin/R CMD INSTALL mbQTL
StartedAt: 2024-11-19 15:39:29 -0500 (Tue, 19 Nov 2024)
EndedAt: 2024-11-19 15:39:45 -0500 (Tue, 19 Nov 2024)
EllapsedTime: 15.1 seconds
RetCode: 0
Status: OK