Package: mbQTL Version: 1.6.0 Command: /Library/Frameworks/R.framework/Resources/bin/R CMD build --keep-empty-dirs --no-resave-data mbQTL StartedAt: 2025-02-17 20:09:07 -0500 (Mon, 17 Feb 2025) EndedAt: 2025-02-17 20:11:51 -0500 (Mon, 17 Feb 2025) EllapsedTime: 164.4 seconds RetCode: 0 Status: OK PackageFile: mbQTL_1.6.0.tar.gz PackageFileSize: 1.459 <A href="http://en.wikipedia.org/wiki/MiB" target="_blank">MiB</A>