Package: mbQTL Version: 1.6.0 Command: /home/biocbuild/bbs-3.20-bioc/R/bin/R CMD build --keep-empty-dirs --no-resave-data --md5 mbQTL StartedAt: 2025-02-03 18:04:57 -0500 (Mon, 03 Feb 2025) EndedAt: 2025-02-03 18:06:01 -0500 (Mon, 03 Feb 2025) EllapsedTime: 64.1 seconds RetCode: 0 Status: OK PackageFile: mbQTL_1.6.0.tar.gz PackageFileSize: 1.776 MiB