Package: mbkmeans Version: 1.22.0 Command: /Library/Frameworks/R.framework/Resources/bin/R CMD INSTALL mbkmeans StartedAt: 2025-02-10 16:14:24 -0500 (Mon, 10 Feb 2025) EndedAt: 2025-02-10 16:15:14 -0500 (Mon, 10 Feb 2025) EllapsedTime: 49.4 seconds RetCode: 0 Status: OK