Package: mbkmeans Version: 1.22.0 Command: rm -rf mbkmeans.buildbin-libdir && mkdir mbkmeans.buildbin-libdir && /Users/biocbuild/BBS/utils/build-universal.sh mbkmeans_1.22.0.tar.gz /Library/Frameworks/R.framework/Resources/bin/R mbkmeans.buildbin-libdir StartedAt: 2025-02-04 13:20:47 -0500 (Tue, 04 Feb 2025) EndedAt: 2025-02-04 13:22:57 -0500 (Tue, 04 Feb 2025) EllapsedTime: 130.7 seconds RetCode: 0 Status: OK PackageFile: mbkmeans_1.22.0.tgz PackageFileSize: 442.7 KiB