Package: mbkmeans Version: 1.22.0 Command: /home/biocbuild/bbs-3.20-bioc/R/bin/R CMD build --keep-empty-dirs --no-resave-data --md5 mbkmeans StartedAt: 2025-02-03 18:04:44 -0500 (Mon, 03 Feb 2025) EndedAt: 2025-02-03 18:06:12 -0500 (Mon, 03 Feb 2025) EllapsedTime: 88.1 seconds RetCode: 0 Status: OK PackageFile: mbkmeans_1.22.0.tar.gz PackageFileSize: 293.8 KiB