Package: mbkmeans Version: 1.22.0 Command: /home/biocbuild/R/R/bin/R CMD check --install=check:mbkmeans.install-out.txt --library=/home/biocbuild/R/R/site-library --no-vignettes --timings mbkmeans_1.22.0.tar.gz StartedAt: 2025-02-04 08:28:18 -0000 (Tue, 04 Feb 2025) EndedAt: 2025-02-04 08:34:40 -0000 (Tue, 04 Feb 2025) EllapsedTime: 382.5 seconds RetCode: 0 Status: OK CheckDir: mbkmeans.Rcheck Warnings: 0