Package: mbkmeans Version: 1.22.0 Command: /home/biocbuild/R/R/bin/R CMD INSTALL mbkmeans StartedAt: 2025-01-30 20:26:26 -0000 (Thu, 30 Jan 2025) EndedAt: 2025-01-30 20:27:35 -0000 (Thu, 30 Jan 2025) EllapsedTime: 69.0 seconds RetCode: 0 Status: OK