Package: mdp Version: 1.26.0 Command: rm -rf mdp.buildbin-libdir && mkdir mdp.buildbin-libdir && /Users/biocbuild/BBS/utils/build-universal.sh mdp_1.26.0.tar.gz /Library/Frameworks/R.framework/Resources/bin/R mdp.buildbin-libdir StartedAt: 2025-02-05 16:31:29 -0500 (Wed, 05 Feb 2025) EndedAt: 2025-02-05 16:31:36 -0500 (Wed, 05 Feb 2025) EllapsedTime: 6.9 seconds RetCode: 0 Status: OK PackageFile: mdp_1.26.0.tgz PackageFileSize: 4.349 MiB