Package: mdp Version: 1.26.0 Command: /Library/Frameworks/R.framework/Resources/bin/R CMD build --keep-empty-dirs --no-resave-data mdp StartedAt: 2025-02-04 02:41:55 -0500 (Tue, 04 Feb 2025) EndedAt: 2025-02-04 02:42:18 -0500 (Tue, 04 Feb 2025) EllapsedTime: 23.9 seconds RetCode: 0 Status: OK PackageFile: mdp_1.26.0.tar.gz PackageFileSize: 4.4 MiB