Package: mdp Version: 1.26.0 Command: /Library/Frameworks/R.framework/Resources/bin/R CMD INSTALL mdp StartedAt: 2025-02-03 15:34:03 -0500 (Mon, 03 Feb 2025) EndedAt: 2025-02-03 15:34:07 -0500 (Mon, 03 Feb 2025) EllapsedTime: 3.7 seconds RetCode: 0 Status: OK