Package: mdp
Version: 1.26.0
Command: /home/biocbuild/bbs-3.20-bioc/R/bin/R CMD INSTALL mdp
StartedAt: 2025-02-17 15:15:58 -0500 (Mon, 17 Feb 2025)
EndedAt: 2025-02-17 15:16:01 -0500 (Mon, 17 Feb 2025)
EllapsedTime: 3.3 seconds
RetCode: 0
Status: OK