Package: mdp Version: 1.26.0 Command: chmod a+r mdp -R && F:\biocbuild\bbs-3.20-bioc\R\bin\R.exe CMD build --keep-empty-dirs --no-resave-data mdp StartedAt: 2025-02-03 20:10:56 -0500 (Mon, 03 Feb 2025) EndedAt: 2025-02-03 20:11:29 -0500 (Mon, 03 Feb 2025) EllapsedTime: 32.5 seconds RetCode: 0 Status: OK PackageFile: mdp_1.26.0.tar.gz PackageFileSize: 4.172 MiB