Package: mdp Version: 1.26.0 Command: /home/biocbuild/R/R/bin/R CMD check --install=check:mdp.install-out.txt --library=/home/biocbuild/R/R/site-library --no-vignettes --timings mdp_1.26.0.tar.gz StartedAt: 2025-02-04 08:30:00 -0000 (Tue, 04 Feb 2025) EndedAt: 2025-02-04 08:31:04 -0000 (Tue, 04 Feb 2025) EllapsedTime: 64.1 seconds RetCode: 0 Status: OK CheckDir: mdp.Rcheck Warnings: 0