Package: megadepth Version: 1.16.0 Command: /home/biocbuild/R/R/bin/R CMD INSTALL megadepth StartedAt: 2024-11-19 21:09:31 -0000 (Tue, 19 Nov 2024) EndedAt: 2024-11-19 21:09:47 -0000 (Tue, 19 Nov 2024) EllapsedTime: 15.6 seconds RetCode: 0 Status: OK