Package: megadepth Version: 1.16.0 Command: /Library/Frameworks/R.framework/Resources/bin/R CMD build --keep-empty-dirs --no-resave-data megadepth StartedAt: 2025-02-03 20:06:29 -0500 (Mon, 03 Feb 2025) EndedAt: 2025-02-03 20:07:49 -0500 (Mon, 03 Feb 2025) EllapsedTime: 79.8 seconds RetCode: 0 Status: OK PackageFile: megadepth_1.16.0.tar.gz PackageFileSize: 465.6 KiB