Package: megadepth Version: 1.16.0 Command: /home/biocbuild/bbs-3.20-bioc/R/bin/R CMD build --keep-empty-dirs --no-resave-data --md5 megadepth StartedAt: 2025-02-03 18:06:01 -0500 (Mon, 03 Feb 2025) EndedAt: 2025-02-03 18:06:34 -0500 (Mon, 03 Feb 2025) EllapsedTime: 33.0 seconds RetCode: 0 Status: OK PackageFile: megadepth_1.16.0.tar.gz PackageFileSize: 468.2 KiB