Package: megadepth Version: 1.16.0 Command: chmod a+r megadepth -R && F:\biocbuild\bbs-3.20-bioc\R\bin\R.exe CMD build --keep-empty-dirs --no-resave-data megadepth StartedAt: 2025-02-10 20:06:28 -0500 (Mon, 10 Feb 2025) EndedAt: 2025-02-10 20:07:42 -0500 (Mon, 10 Feb 2025) EllapsedTime: 74.6 seconds RetCode: 0 Status: OK PackageFile: megadepth_1.16.0.tar.gz PackageFileSize: 466.8 KiB