Package: megadepth Version: 1.16.0 Command: /home/biocbuild/R/R/bin/R CMD build --keep-empty-dirs --no-resave-data megadepth StartedAt: 2025-02-04 00:44:55 -0000 (Tue, 04 Feb 2025) EndedAt: 2025-02-04 00:45:23 -0000 (Tue, 04 Feb 2025) EllapsedTime: 28.0 seconds RetCode: 1 Status: ERROR PackageFile: None PackageFileSize: NA