Package: megadepth Version: 1.16.0 Command: /home/biocbuild/R/R/bin/R CMD INSTALL megadepth StartedAt: 2025-02-03 21:02:52 -0000 (Mon, 03 Feb 2025) EndedAt: 2025-02-03 21:03:06 -0000 (Mon, 03 Feb 2025) EllapsedTime: 13.3 seconds RetCode: 0 Status: OK