Package: megadepth Version: 1.16.0 Command: /home/biocbuild/bbs-3.20-bioc/R/bin/R CMD build --keep-empty-dirs --no-resave-data megadepth StartedAt: 2024-11-19 19:54:39 -0500 (Tue, 19 Nov 2024) EndedAt: 2024-11-19 19:55:13 -0500 (Tue, 19 Nov 2024) EllapsedTime: 34.0 seconds RetCode: 0 Status: OK PackageFile: megadepth_1.16.0.tar.gz PackageFileSize: 465.5 KiB