Package: memes Version: 1.14.0 Command: /Library/Frameworks/R.framework/Resources/bin/R CMD build --keep-empty-dirs --no-resave-data memes StartedAt: 2025-02-03 20:06:45 -0500 (Mon, 03 Feb 2025) EndedAt: 2025-02-03 20:09:11 -0500 (Mon, 03 Feb 2025) EllapsedTime: 145.8 seconds RetCode: 0 Status: OK PackageFile: memes_1.14.0.tar.gz PackageFileSize: 1.118 MiB