Package: meshes
Version: 1.32.0
Command: /Library/Frameworks/R.framework/Resources/bin/R CMD INSTALL meshes
StartedAt: 2025-02-13 17:17:17 -0500 (Thu, 13 Feb 2025)
EndedAt: 2025-02-13 17:17:46 -0500 (Thu, 13 Feb 2025)
EllapsedTime: 29.8 seconds
RetCode: 0
Status: OK