Package: meshes
Version: 1.31.0
Command: chmod a+r meshes -R && C:\Users\biocbuild\bbs-3.20-bioc\R\bin\R.exe CMD build --keep-empty-dirs --no-resave-data meshes
StartedAt: 2024-07-15 18:59:06 -0400 (Mon, 15 Jul 2024)
EndedAt: 2024-07-15 18:59:36 -0400 (Mon, 15 Jul 2024)
EllapsedTime: 29.3 seconds
RetCode: 0
Status: OK
PackageFile: meshes_1.31.0.tar.gz
PackageFileSize: 922 <A href="http://en.wikipedia.org/wiki/KiB" target="_blank">KiB</A>