Package: messina Version: 1.42.0 Command: /Library/Frameworks/R.framework/Resources/bin/R CMD INSTALL messina StartedAt: 2025-02-03 17:05:24 -0500 (Mon, 03 Feb 2025) EndedAt: 2025-02-03 17:05:45 -0500 (Mon, 03 Feb 2025) EllapsedTime: 21.5 seconds RetCode: 0 Status: OK