Package: messina Version: 1.42.0 Command: /Library/Frameworks/R.framework/Resources/bin/R CMD build --keep-empty-dirs --no-resave-data messina StartedAt: 2024-11-19 17:31:24 -0500 (Tue, 19 Nov 2024) EndedAt: 2024-11-19 17:33:18 -0500 (Tue, 19 Nov 2024) EllapsedTime: 114.5 seconds RetCode: 0 Status: OK PackageFile: messina_1.42.0.tar.gz PackageFileSize: 297.5 KiB