Package: messina Version: 1.42.0 Command: /home/biocbuild/bbs-3.20-bioc/R/bin/R CMD check --install=check:messina.install-out.txt --library=/home/biocbuild/bbs-3.20-bioc/R/site-library --timings messina_1.42.0.tar.gz StartedAt: 2025-02-03 23:54:16 -0500 (Mon, 03 Feb 2025) EndedAt: 2025-02-03 23:57:27 -0500 (Mon, 03 Feb 2025) EllapsedTime: 191.2 seconds RetCode: 0 Status: WARNINGS CheckDir: messina.Rcheck Warnings: 1